BEGIN:VCALENDAR
VERSION:2.0
PRODID:-//Communities for Sustainable Monterey County - ECPv6.15.18//NONSGML v1.0//EN
CALSCALE:GREGORIAN
METHOD:PUBLISH
X-WR-CALNAME:Communities for Sustainable Monterey County
X-ORIGINAL-URL:https://sustainablemontereycounty.org
X-WR-CALDESC:Events for Communities for Sustainable Monterey County
REFRESH-INTERVAL;VALUE=DURATION:PT1H
X-Robots-Tag:noindex
X-PUBLISHED-TTL:PT1H
BEGIN:VTIMEZONE
TZID:America/Los_Angeles
BEGIN:DAYLIGHT
TZOFFSETFROM:-0800
TZOFFSETTO:-0700
TZNAME:PDT
DTSTART:20250309T100000
END:DAYLIGHT
BEGIN:STANDARD
TZOFFSETFROM:-0700
TZOFFSETTO:-0800
TZNAME:PST
DTSTART:20251102T090000
END:STANDARD
BEGIN:DAYLIGHT
TZOFFSETFROM:-0800
TZOFFSETTO:-0700
TZNAME:PDT
DTSTART:20260308T100000
END:DAYLIGHT
BEGIN:STANDARD
TZOFFSETFROM:-0700
TZOFFSETTO:-0800
TZNAME:PST
DTSTART:20261101T090000
END:STANDARD
BEGIN:DAYLIGHT
TZOFFSETFROM:-0800
TZOFFSETTO:-0700
TZNAME:PDT
DTSTART:20270314T100000
END:DAYLIGHT
BEGIN:STANDARD
TZOFFSETFROM:-0700
TZOFFSETTO:-0800
TZNAME:PST
DTSTART:20271107T090000
END:STANDARD
END:VTIMEZONE
BEGIN:VEVENT
DTSTART;TZID=America/Los_Angeles:20260419T120000
DTEND;TZID=America/Los_Angeles:20260419T160000
DTSTAMP:20260421T013656
CREATED:20260213T230451Z
LAST-MODIFIED:20260213T230451Z
UID:10003630-1776600000-1776614400@sustainablemontereycounty.org
SUMMARY:Seaside Annual Earth Day
DESCRIPTION:This is an opportunity to engage with people of all ages and share your organizations commitment to sustainability. Last years event attracted over 250 visitors.
URL:https://sustainablemontereycounty.org/event/seaside-annual-earth-day/
LOCATION:Laguna Grande Regional Park\, 1271 Canyon Del Rey Blvd.\, Seaside\, CA\, 93955\, United States
ORGANIZER;CN="Monterey Waterkeeper":MAILTO:natalie@montereywaterkeeper.org
END:VEVENT
END:VCALENDAR